BEGIN:VCALENDAR
VERSION:2.0
PRODID:-//Tennessee Overhill - ECPv6.15.16//NONSGML v1.0//EN
CALSCALE:GREGORIAN
METHOD:PUBLISH
X-WR-CALNAME:Tennessee Overhill
X-ORIGINAL-URL:https://www.tennesseeoverhill.com
X-WR-CALDESC:Events for Tennessee Overhill
REFRESH-INTERVAL;VALUE=DURATION:PT1H
X-Robots-Tag:noindex
X-PUBLISHED-TTL:PT1H
BEGIN:VTIMEZONE
TZID:America/New_York
BEGIN:DAYLIGHT
TZOFFSETFROM:-0500
TZOFFSETTO:-0400
TZNAME:EDT
DTSTART:20250309T070000
END:DAYLIGHT
BEGIN:STANDARD
TZOFFSETFROM:-0400
TZOFFSETTO:-0500
TZNAME:EST
DTSTART:20251102T060000
END:STANDARD
BEGIN:DAYLIGHT
TZOFFSETFROM:-0500
TZOFFSETTO:-0400
TZNAME:EDT
DTSTART:20260308T070000
END:DAYLIGHT
BEGIN:STANDARD
TZOFFSETFROM:-0400
TZOFFSETTO:-0500
TZNAME:EST
DTSTART:20261101T060000
END:STANDARD
BEGIN:DAYLIGHT
TZOFFSETFROM:-0500
TZOFFSETTO:-0400
TZNAME:EDT
DTSTART:20270314T070000
END:DAYLIGHT
BEGIN:STANDARD
TZOFFSETFROM:-0400
TZOFFSETTO:-0500
TZNAME:EST
DTSTART:20271107T060000
END:STANDARD
END:VTIMEZONE
BEGIN:VEVENT
DTSTART;TZID=America/New_York:20260312T183000
DTEND;TZID=America/New_York:20260312T200000
DTSTAMP:20260421T053140
CREATED:20260312T223000Z
LAST-MODIFIED:20260119T192924Z
UID:16002-1773340200-1773345600@www.tennesseeoverhill.com
SUMMARY:Gems of the Past - Gerald Hodge “Civil War and the TN Overhill”
DESCRIPTION:Gerald Hodge presents Civil War and the Tennessee Overhill\, an exploration of how the Civil War shaped the people\, communities\, and landscape of the Overhill region. Drawing on regional history and local perspective\, Hodge examines the war’s lasting impact on Southeast Tennessee. \nThursday\, March 12\, 20266:30 pmGem Theater
URL:https://www.tennesseeoverhill.com/event/gems-of-the-past-gerald-hodge-civil-war-and-the-tn-overhill/
LOCATION:Gem Theater\, 700 Tennessee Ave\, Etowah\, TN\, 37331\, United States
CATEGORIES:Upcoming
ATTACH;FMTTYPE=image/png:https://www.tennesseeoverhill.com/wp-content/uploads/2026/01/Gems.png
END:VEVENT
END:VCALENDAR