BEGIN:VCALENDAR
VERSION:2.0
PRODID:-//Tennessee Overhill - ECPv6.15.16//NONSGML v1.0//EN
CALSCALE:GREGORIAN
METHOD:PUBLISH
X-WR-CALNAME:Tennessee Overhill
X-ORIGINAL-URL:https://www.tennesseeoverhill.com
X-WR-CALDESC:Events for Tennessee Overhill
REFRESH-INTERVAL;VALUE=DURATION:PT1H
X-Robots-Tag:noindex
X-PUBLISHED-TTL:PT1H
BEGIN:VTIMEZONE
TZID:America/New_York
BEGIN:DAYLIGHT
TZOFFSETFROM:-0500
TZOFFSETTO:-0400
TZNAME:EDT
DTSTART:20230312T070000
END:DAYLIGHT
BEGIN:STANDARD
TZOFFSETFROM:-0400
TZOFFSETTO:-0500
TZNAME:EST
DTSTART:20231105T060000
END:STANDARD
BEGIN:DAYLIGHT
TZOFFSETFROM:-0500
TZOFFSETTO:-0400
TZNAME:EDT
DTSTART:20240310T070000
END:DAYLIGHT
BEGIN:STANDARD
TZOFFSETFROM:-0400
TZOFFSETTO:-0500
TZNAME:EST
DTSTART:20241103T060000
END:STANDARD
BEGIN:DAYLIGHT
TZOFFSETFROM:-0500
TZOFFSETTO:-0400
TZNAME:EDT
DTSTART:20250309T070000
END:DAYLIGHT
BEGIN:STANDARD
TZOFFSETFROM:-0400
TZOFFSETTO:-0500
TZNAME:EST
DTSTART:20251102T060000
END:STANDARD
END:VTIMEZONE
BEGIN:VEVENT
DTSTART;TZID=America/New_York:20240908T133000
DTEND;TZID=America/New_York:20240908T180000
DTSTAMP:20260423T115355
CREATED:20240908T173000Z
LAST-MODIFIED:20240909T151341Z
UID:13173-1725802200-1725818400@www.tennesseeoverhill.com
SUMMARY:Hiwassee Loop Train 9-8
DESCRIPTION:Hiwassee Loop\nHiwassee Loop Excursion – Departs at 1:30pm from 9406 Hwy 411\, Delano\, TN. Fifty miles of breathtaking views\, the 3 ½ hour train trip parallels the scenic Hiwassee River offering views of the lower gorge.  At the Loop the tracks corkscrew over themselves as they climb Bald Mountain near Farner\, TN. 423-263-7840 or 800-397-5544 or www.tvrail.com
URL:https://www.tennesseeoverhill.com/event/hiwassee-loop-train-9-8/
CATEGORIES:Events
END:VEVENT
END:VCALENDAR